BEGIN:VCALENDAR
VERSION:2.0
PRODID:-//Oakleaf Enterprise - ECPv6.15.20//NONSGML v1.0//EN
CALSCALE:GREGORIAN
METHOD:PUBLISH
X-ORIGINAL-URL:https://www.oakleaf-enterprise.org
X-WR-CALDESC:Events for Oakleaf Enterprise
REFRESH-INTERVAL;VALUE=DURATION:PT1H
X-Robots-Tag:noindex
X-PUBLISHED-TTL:PT1H
BEGIN:VTIMEZONE
TZID:Europe/London
BEGIN:DAYLIGHT
TZOFFSETFROM:+0000
TZOFFSETTO:+0100
TZNAME:BST
DTSTART:20240331T010000
END:DAYLIGHT
BEGIN:STANDARD
TZOFFSETFROM:+0100
TZOFFSETTO:+0000
TZNAME:GMT
DTSTART:20241027T010000
END:STANDARD
BEGIN:DAYLIGHT
TZOFFSETFROM:+0000
TZOFFSETTO:+0100
TZNAME:BST
DTSTART:20250330T010000
END:DAYLIGHT
BEGIN:STANDARD
TZOFFSETFROM:+0100
TZOFFSETTO:+0000
TZNAME:GMT
DTSTART:20251026T010000
END:STANDARD
BEGIN:DAYLIGHT
TZOFFSETFROM:+0000
TZOFFSETTO:+0100
TZNAME:BST
DTSTART:20260329T010000
END:DAYLIGHT
BEGIN:STANDARD
TZOFFSETFROM:+0100
TZOFFSETTO:+0000
TZNAME:GMT
DTSTART:20261025T010000
END:STANDARD
END:VTIMEZONE
BEGIN:VEVENT
DTSTART;VALUE=DATE:20250225
DTEND;VALUE=DATE:20250226
DTSTAMP:20260421T164327
CREATED:20250211T102955Z
LAST-MODIFIED:20250211T102955Z
UID:14691-1740441600-1740527999@www.oakleaf-enterprise.org
SUMMARY:Creative Writing (In Person) @ Oakleaf
DESCRIPTION:13:00-14:00 \nCreative writing is a great way to relax and give space to your thoughts and feelings. In this inclusive\, laid-back\, and fun workshop\, we’ll learn about creative journaling and the power of telling our stories—whether from life or imagination. Each week will focus on a specific theme and include prompts to inspire your writing. There is no requirement to read your work out loud. The goal is to find enjoyment in your writing practice and continue after the workshop concludes. \n  \nPlease bring a pen and notebook OR an electronic device for the exercises. \n 
URL:https://www.oakleaf-enterprise.org/event/creative-writing-in-person-oakleaf-2/2025-02-25/
LOCATION:Oakleaf Enterprise\, 101 Walnut Tree Close\, Guildford\, Surrey\, GU1 4UQ\, United Kingdom
CATEGORIES:Client Calendar
ORGANIZER;CN="Sophie Clark":MAILTO:sophieclark@oakleaf-enterprise.org
END:VEVENT
BEGIN:VEVENT
DTSTART;VALUE=DATE:20250218
DTEND;VALUE=DATE:20250219
DTSTAMP:20260421T164327
CREATED:20250211T102955Z
LAST-MODIFIED:20250211T102955Z
UID:14690-1739836800-1739923199@www.oakleaf-enterprise.org
SUMMARY:Creative Writing (In Person) @ Oakleaf
DESCRIPTION:13:00-14:00 \nCreative writing is a great way to relax and give space to your thoughts and feelings. In this inclusive\, laid-back\, and fun workshop\, we’ll learn about creative journaling and the power of telling our stories—whether from life or imagination. Each week will focus on a specific theme and include prompts to inspire your writing. There is no requirement to read your work out loud. The goal is to find enjoyment in your writing practice and continue after the workshop concludes. \n  \nPlease bring a pen and notebook OR an electronic device for the exercises. \n 
URL:https://www.oakleaf-enterprise.org/event/creative-writing-in-person-oakleaf-2/2025-02-18/
LOCATION:Oakleaf Enterprise\, 101 Walnut Tree Close\, Guildford\, Surrey\, GU1 4UQ\, United Kingdom
CATEGORIES:Client Calendar
ORGANIZER;CN="Sophie Clark":MAILTO:sophieclark@oakleaf-enterprise.org
END:VEVENT
BEGIN:VEVENT
DTSTART;VALUE=DATE:20250211
DTEND;VALUE=DATE:20250212
DTSTAMP:20260421T164327
CREATED:20250211T102955Z
LAST-MODIFIED:20250211T102955Z
UID:14689-1739232000-1739318399@www.oakleaf-enterprise.org
SUMMARY:Creative Writing (In Person) @ Oakleaf
DESCRIPTION:13:00-14:00 \nCreative writing is a great way to relax and give space to your thoughts and feelings. In this inclusive\, laid-back\, and fun workshop\, we’ll learn about creative journaling and the power of telling our stories—whether from life or imagination. Each week will focus on a specific theme and include prompts to inspire your writing. There is no requirement to read your work out loud. The goal is to find enjoyment in your writing practice and continue after the workshop concludes. \n  \nPlease bring a pen and notebook OR an electronic device for the exercises. \n 
URL:https://www.oakleaf-enterprise.org/event/creative-writing-in-person-oakleaf-2/2025-02-11/
LOCATION:Oakleaf Enterprise\, 101 Walnut Tree Close\, Guildford\, Surrey\, GU1 4UQ\, United Kingdom
CATEGORIES:Client Calendar
ORGANIZER;CN="Sophie Clark":MAILTO:sophieclark@oakleaf-enterprise.org
END:VEVENT
BEGIN:VEVENT
DTSTART;VALUE=DATE:20250204
DTEND;VALUE=DATE:20250205
DTSTAMP:20260421T164327
CREATED:20250211T102955Z
LAST-MODIFIED:20250211T102955Z
UID:14683-1738627200-1738713599@www.oakleaf-enterprise.org
SUMMARY:Creative Writing (In Person) @ Oakleaf
DESCRIPTION:13:00-14:00 \nCreative writing is a great way to relax and give space to your thoughts and feelings. In this inclusive\, laid-back\, and fun workshop\, we’ll learn about creative journaling and the power of telling our stories—whether from life or imagination. Each week will focus on a specific theme and include prompts to inspire your writing. There is no requirement to read your work out loud. The goal is to find enjoyment in your writing practice and continue after the workshop concludes. \n  \nPlease bring a pen and notebook OR an electronic device for the exercises. \n 
URL:https://www.oakleaf-enterprise.org/event/creative-writing-in-person-oakleaf-2/2025-02-04/
LOCATION:Oakleaf Enterprise\, 101 Walnut Tree Close\, Guildford\, Surrey\, GU1 4UQ\, United Kingdom
CATEGORIES:Client Calendar
ORGANIZER;CN="Sophie Clark":MAILTO:sophieclark@oakleaf-enterprise.org
END:VEVENT
END:VCALENDAR