BEGIN:VCALENDAR
VERSION:2.0
PRODID:-//Oakleaf Enterprise - ECPv6.15.20//NONSGML v1.0//EN
CALSCALE:GREGORIAN
METHOD:PUBLISH
X-WR-CALNAME:Oakleaf Enterprise
X-ORIGINAL-URL:https://www.oakleaf-enterprise.org
X-WR-CALDESC:Events for Oakleaf Enterprise
REFRESH-INTERVAL;VALUE=DURATION:PT1H
X-Robots-Tag:noindex
X-PUBLISHED-TTL:PT1H
BEGIN:VTIMEZONE
TZID:Europe/London
BEGIN:DAYLIGHT
TZOFFSETFROM:+0000
TZOFFSETTO:+0100
TZNAME:BST
DTSTART:20230326T010000
END:DAYLIGHT
BEGIN:STANDARD
TZOFFSETFROM:+0100
TZOFFSETTO:+0000
TZNAME:GMT
DTSTART:20231029T010000
END:STANDARD
BEGIN:DAYLIGHT
TZOFFSETFROM:+0000
TZOFFSETTO:+0100
TZNAME:BST
DTSTART:20240331T010000
END:DAYLIGHT
BEGIN:STANDARD
TZOFFSETFROM:+0100
TZOFFSETTO:+0000
TZNAME:GMT
DTSTART:20241027T010000
END:STANDARD
BEGIN:DAYLIGHT
TZOFFSETFROM:+0000
TZOFFSETTO:+0100
TZNAME:BST
DTSTART:20250330T010000
END:DAYLIGHT
BEGIN:STANDARD
TZOFFSETFROM:+0100
TZOFFSETTO:+0000
TZNAME:GMT
DTSTART:20251026T010000
END:STANDARD
END:VTIMEZONE
BEGIN:VEVENT
DTSTART;VALUE=DATE:20240917
DTEND;VALUE=DATE:20241106
DTSTAMP:20260425T154307
CREATED:20240910T105455Z
LAST-MODIFIED:20240910T105455Z
UID:12487-1726531200-1730851199@www.oakleaf-enterprise.org
SUMMARY:Mental Health Management (In Person) @ Wilfred Noyce Godalming
DESCRIPTION:09:30-10:30 \nJoin Carolina in these interactive and informative sessions designed to equip you with practical tools and strategies for managing your mental health. Whether you’re looking to better understand your own mental well-being or support others in their journey\, these sessions will provide valuable insights and actionable techniques.
URL:https://www.oakleaf-enterprise.org/event/mental-health-management-in-person-wilfred-noyce-godalming/2024-09-17/
LOCATION:Wilfred Noyce Godalming\, 107-109 High Street\, Godalming\, Surrey\, GU7 1AQ\, United Kingdom
ORGANIZER;CN="Sophie Clark":MAILTO:sophieclark@oakleaf-enterprise.org
END:VEVENT
BEGIN:VEVENT
DTSTART;VALUE=DATE:20240924
DTEND;VALUE=DATE:20241113
DTSTAMP:20260425T154307
CREATED:20240910T105455Z
LAST-MODIFIED:20240910T105455Z
UID:12488-1727136000-1731455999@www.oakleaf-enterprise.org
SUMMARY:Mental Health Management (In Person) @ Wilfred Noyce Godalming
DESCRIPTION:09:30-10:30 \nJoin Carolina in these interactive and informative sessions designed to equip you with practical tools and strategies for managing your mental health. Whether you’re looking to better understand your own mental well-being or support others in their journey\, these sessions will provide valuable insights and actionable techniques.
URL:https://www.oakleaf-enterprise.org/event/mental-health-management-in-person-wilfred-noyce-godalming/2024-09-24/
LOCATION:Wilfred Noyce Godalming\, 107-109 High Street\, Godalming\, Surrey\, GU7 1AQ\, United Kingdom
ORGANIZER;CN="Sophie Clark":MAILTO:sophieclark@oakleaf-enterprise.org
END:VEVENT
BEGIN:VEVENT
DTSTART;VALUE=DATE:20241001
DTEND;VALUE=DATE:20241120
DTSTAMP:20260425T154307
CREATED:20240910T105455Z
LAST-MODIFIED:20240910T105455Z
UID:12489-1727740800-1732060799@www.oakleaf-enterprise.org
SUMMARY:Mental Health Management (In Person) @ Wilfred Noyce Godalming
DESCRIPTION:09:30-10:30 \nJoin Carolina in these interactive and informative sessions designed to equip you with practical tools and strategies for managing your mental health. Whether you’re looking to better understand your own mental well-being or support others in their journey\, these sessions will provide valuable insights and actionable techniques.
URL:https://www.oakleaf-enterprise.org/event/mental-health-management-in-person-wilfred-noyce-godalming/2024-10-01/
LOCATION:Wilfred Noyce Godalming\, 107-109 High Street\, Godalming\, Surrey\, GU7 1AQ\, United Kingdom
ORGANIZER;CN="Sophie Clark":MAILTO:sophieclark@oakleaf-enterprise.org
END:VEVENT
BEGIN:VEVENT
DTSTART;VALUE=DATE:20241008
DTEND;VALUE=DATE:20241127
DTSTAMP:20260425T154307
CREATED:20240910T105455Z
LAST-MODIFIED:20240910T105455Z
UID:12490-1728345600-1732665599@www.oakleaf-enterprise.org
SUMMARY:Mental Health Management (In Person) @ Wilfred Noyce Godalming
DESCRIPTION:09:30-10:30 \nJoin Carolina in these interactive and informative sessions designed to equip you with practical tools and strategies for managing your mental health. Whether you’re looking to better understand your own mental well-being or support others in their journey\, these sessions will provide valuable insights and actionable techniques.
URL:https://www.oakleaf-enterprise.org/event/mental-health-management-in-person-wilfred-noyce-godalming/2024-10-08/
LOCATION:Wilfred Noyce Godalming\, 107-109 High Street\, Godalming\, Surrey\, GU7 1AQ\, United Kingdom
ORGANIZER;CN="Sophie Clark":MAILTO:sophieclark@oakleaf-enterprise.org
END:VEVENT
BEGIN:VEVENT
DTSTART;VALUE=DATE:20241015
DTEND;VALUE=DATE:20241204
DTSTAMP:20260425T154307
CREATED:20240910T105455Z
LAST-MODIFIED:20240910T105455Z
UID:12491-1728950400-1733270399@www.oakleaf-enterprise.org
SUMMARY:Mental Health Management (In Person) @ Wilfred Noyce Godalming
DESCRIPTION:09:30-10:30 \nJoin Carolina in these interactive and informative sessions designed to equip you with practical tools and strategies for managing your mental health. Whether you’re looking to better understand your own mental well-being or support others in their journey\, these sessions will provide valuable insights and actionable techniques.
URL:https://www.oakleaf-enterprise.org/event/mental-health-management-in-person-wilfred-noyce-godalming/2024-10-15/
LOCATION:Wilfred Noyce Godalming\, 107-109 High Street\, Godalming\, Surrey\, GU7 1AQ\, United Kingdom
ORGANIZER;CN="Sophie Clark":MAILTO:sophieclark@oakleaf-enterprise.org
END:VEVENT
BEGIN:VEVENT
DTSTART;VALUE=DATE:20241022
DTEND;VALUE=DATE:20241211
DTSTAMP:20260425T154307
CREATED:20240910T105455Z
LAST-MODIFIED:20240910T105455Z
UID:12492-1729555200-1733875199@www.oakleaf-enterprise.org
SUMMARY:Mental Health Management (In Person) @ Wilfred Noyce Godalming
DESCRIPTION:09:30-10:30 \nJoin Carolina in these interactive and informative sessions designed to equip you with practical tools and strategies for managing your mental health. Whether you’re looking to better understand your own mental well-being or support others in their journey\, these sessions will provide valuable insights and actionable techniques.
URL:https://www.oakleaf-enterprise.org/event/mental-health-management-in-person-wilfred-noyce-godalming/2024-10-22/
LOCATION:Wilfred Noyce Godalming\, 107-109 High Street\, Godalming\, Surrey\, GU7 1AQ\, United Kingdom
ORGANIZER;CN="Sophie Clark":MAILTO:sophieclark@oakleaf-enterprise.org
END:VEVENT
BEGIN:VEVENT
DTSTART;VALUE=DATE:20241029
DTEND;VALUE=DATE:20241218
DTSTAMP:20260425T154307
CREATED:20240910T105455Z
LAST-MODIFIED:20240910T105455Z
UID:12493-1730160000-1734479999@www.oakleaf-enterprise.org
SUMMARY:Mental Health Management (In Person) @ Wilfred Noyce Godalming
DESCRIPTION:09:30-10:30 \nJoin Carolina in these interactive and informative sessions designed to equip you with practical tools and strategies for managing your mental health. Whether you’re looking to better understand your own mental well-being or support others in their journey\, these sessions will provide valuable insights and actionable techniques.
URL:https://www.oakleaf-enterprise.org/event/mental-health-management-in-person-wilfred-noyce-godalming/2024-10-29/
LOCATION:Wilfred Noyce Godalming\, 107-109 High Street\, Godalming\, Surrey\, GU7 1AQ\, United Kingdom
ORGANIZER;CN="Sophie Clark":MAILTO:sophieclark@oakleaf-enterprise.org
END:VEVENT
END:VCALENDAR