BEGIN:VCALENDAR
VERSION:2.0
PRODID:-//Oakleaf Enterprise - ECPv6.15.20//NONSGML v1.0//EN
CALSCALE:GREGORIAN
METHOD:PUBLISH
X-ORIGINAL-URL:https://www.oakleaf-enterprise.org
X-WR-CALDESC:Events for Oakleaf Enterprise
REFRESH-INTERVAL;VALUE=DURATION:PT1H
X-Robots-Tag:noindex
X-PUBLISHED-TTL:PT1H
BEGIN:VTIMEZONE
TZID:Europe/London
BEGIN:DAYLIGHT
TZOFFSETFROM:+0000
TZOFFSETTO:+0100
TZNAME:BST
DTSTART:20240331T010000
END:DAYLIGHT
BEGIN:STANDARD
TZOFFSETFROM:+0100
TZOFFSETTO:+0000
TZNAME:GMT
DTSTART:20241027T010000
END:STANDARD
BEGIN:DAYLIGHT
TZOFFSETFROM:+0000
TZOFFSETTO:+0100
TZNAME:BST
DTSTART:20250330T010000
END:DAYLIGHT
BEGIN:STANDARD
TZOFFSETFROM:+0100
TZOFFSETTO:+0000
TZNAME:GMT
DTSTART:20251026T010000
END:STANDARD
BEGIN:DAYLIGHT
TZOFFSETFROM:+0000
TZOFFSETTO:+0100
TZNAME:BST
DTSTART:20260329T010000
END:DAYLIGHT
BEGIN:STANDARD
TZOFFSETFROM:+0100
TZOFFSETTO:+0000
TZNAME:GMT
DTSTART:20261025T010000
END:STANDARD
END:VTIMEZONE
BEGIN:VEVENT
DTSTART;VALUE=DATE:20250317
DTEND;VALUE=DATE:20250318
DTSTAMP:20260424T114145
CREATED:20250227T155114Z
LAST-MODIFIED:20250227T155114Z
UID:14924-1742169600-1742255999@www.oakleaf-enterprise.org
SUMMARY:Therapeutic Art
DESCRIPTION:13:30-15:00 \nWe are thrilled to announce a new block of Therapeutic Art sessions. These workshops provide a unique opportunity to connect with yourself through colour and creativity\, utilizing watercolours and other mediums. The exercises are soulful\, meditative explorations that invite self-discovery and reflection. Join us in a warm\, safe space designed to nourish your mind and spirit. \nAll levels of experience are welcome! \n 
URL:https://www.oakleaf-enterprise.org/event/therapeutic-art/2025-03-17/
LOCATION:Oakleaf Enterprise\, 101 Walnut Tree Close\, Guildford\, Surrey\, GU1 4UQ\, United Kingdom
CATEGORIES:Client Calendar
ORGANIZER;CN="Sophie Clark":MAILTO:sophieclark@oakleaf-enterprise.org
END:VEVENT
END:VCALENDAR