BEGIN:VCALENDAR
VERSION:2.0
PRODID:-//Oakleaf Enterprise - ECPv6.15.20//NONSGML v1.0//EN
CALSCALE:GREGORIAN
METHOD:PUBLISH
X-ORIGINAL-URL:https://www.oakleaf-enterprise.org
X-WR-CALDESC:Events for Oakleaf Enterprise
REFRESH-INTERVAL;VALUE=DURATION:PT1H
X-Robots-Tag:noindex
X-PUBLISHED-TTL:PT1H
BEGIN:VTIMEZONE
TZID:Europe/London
BEGIN:DAYLIGHT
TZOFFSETFROM:+0000
TZOFFSETTO:+0100
TZNAME:BST
DTSTART:20240331T010000
END:DAYLIGHT
BEGIN:STANDARD
TZOFFSETFROM:+0100
TZOFFSETTO:+0000
TZNAME:GMT
DTSTART:20241027T010000
END:STANDARD
BEGIN:DAYLIGHT
TZOFFSETFROM:+0000
TZOFFSETTO:+0100
TZNAME:BST
DTSTART:20250330T010000
END:DAYLIGHT
BEGIN:STANDARD
TZOFFSETFROM:+0100
TZOFFSETTO:+0000
TZNAME:GMT
DTSTART:20251026T010000
END:STANDARD
BEGIN:DAYLIGHT
TZOFFSETFROM:+0000
TZOFFSETTO:+0100
TZNAME:BST
DTSTART:20260329T010000
END:DAYLIGHT
BEGIN:STANDARD
TZOFFSETFROM:+0100
TZOFFSETTO:+0000
TZNAME:GMT
DTSTART:20261025T010000
END:STANDARD
END:VTIMEZONE
BEGIN:VEVENT
DTSTART;VALUE=DATE:20250425
DTEND;VALUE=DATE:20250426
DTSTAMP:20260424T114201
CREATED:20250408T103618Z
LAST-MODIFIED:20250408T103618Z
UID:15417-1745539200-1745625599@www.oakleaf-enterprise.org
SUMMARY:Kickstart (In Person) @ Surrey Sport Park\, Bench
DESCRIPTION:15:00-16:00 \nThis 6-week intensive course covers everything from diverse fitness classes right through to insightful sessions on\nnutrition and the vital connections between mental and physical health. Led by our expert Personal Trainer\, you’ll experience a dynamic blend of group sessions and personalised 1-2-1 coaching\, designed to track your progress and help you set meaningful goals during your fitness journey. \n 
URL:https://www.oakleaf-enterprise.org/event/kickstart-in-person-surrey-sport-park-bench/
LOCATION:Surrey Sports Park\, University of Surrey\, Richard Meyjes Road\, Guildford\, Surrey\, GU2 7AD\, United Kingdom
CATEGORIES:Client Calendar
ORGANIZER;CN="Sophie Clark":MAILTO:sophieclark@oakleaf-enterprise.org
END:VEVENT
BEGIN:VEVENT
DTSTART;VALUE=DATE:20250425
DTEND;VALUE=DATE:20250426
DTSTAMP:20260424T114201
CREATED:20250408T105022Z
LAST-MODIFIED:20250408T105022Z
UID:15419-1745539200-1745625599@www.oakleaf-enterprise.org
SUMMARY:Kickstart (Online) (Last Session)
DESCRIPTION:13:00-16:00 \nThis 6-week intensive course covers everything from diverse fitness classes right through to insightful sessions on\nnutrition and the vital connections between mental and physical health. Led by our expert Personal Trainer\, you’ll experience a dynamic blend of group sessions and personalised 1-2-1 coaching\, designed to track your progress and help you set meaningful goals during your fitness journey. \n 
URL:https://www.oakleaf-enterprise.org/event/kickstart-online-last-session/
LOCATION:via Zoom
CATEGORIES:Client Calendar
ORGANIZER;CN="Sophie Clark":MAILTO:sophieclark@oakleaf-enterprise.org
END:VEVENT
END:VCALENDAR