BEGIN:VCALENDAR
VERSION:2.0
PRODID:-//Oakleaf Enterprise - ECPv6.15.20//NONSGML v1.0//EN
CALSCALE:GREGORIAN
METHOD:PUBLISH
X-WR-CALNAME:Oakleaf Enterprise
X-ORIGINAL-URL:https://www.oakleaf-enterprise.org
X-WR-CALDESC:Events for Oakleaf Enterprise
REFRESH-INTERVAL;VALUE=DURATION:PT1H
X-Robots-Tag:noindex
X-PUBLISHED-TTL:PT1H
BEGIN:VTIMEZONE
TZID:Europe/London
BEGIN:DAYLIGHT
TZOFFSETFROM:+0000
TZOFFSETTO:+0100
TZNAME:BST
DTSTART:20230326T010000
END:DAYLIGHT
BEGIN:STANDARD
TZOFFSETFROM:+0100
TZOFFSETTO:+0000
TZNAME:GMT
DTSTART:20231029T010000
END:STANDARD
BEGIN:DAYLIGHT
TZOFFSETFROM:+0000
TZOFFSETTO:+0100
TZNAME:BST
DTSTART:20240331T010000
END:DAYLIGHT
BEGIN:STANDARD
TZOFFSETFROM:+0100
TZOFFSETTO:+0000
TZNAME:GMT
DTSTART:20241027T010000
END:STANDARD
BEGIN:DAYLIGHT
TZOFFSETFROM:+0000
TZOFFSETTO:+0100
TZNAME:BST
DTSTART:20250330T010000
END:DAYLIGHT
BEGIN:STANDARD
TZOFFSETFROM:+0100
TZOFFSETTO:+0000
TZNAME:GMT
DTSTART:20251026T010000
END:STANDARD
END:VTIMEZONE
BEGIN:VEVENT
DTSTART;VALUE=DATE:20240919
DTEND;VALUE=DATE:20240920
DTSTAMP:20260424T183329
CREATED:20240820T151938Z
LAST-MODIFIED:20240820T151938Z
UID:12379-1726704000-1726790399@www.oakleaf-enterprise.org
SUMMARY:Mental Health Support Group (In Person) @ The Pepperpot\, Godalming
DESCRIPTION:14:30pm-15:30pm \nThe Mental Health Support Group will run for six weeks offering participants a safe and secure environment to discuss and share their stories and ideas to improve mental health. \nThe group will be facilitated by Linda\, a qualified counsellor with a BSc degree in Social Sciences. She has been working with the Oakleaf Counselling team since 2020. She has also facilitated various other face to face and online groups.
URL:https://www.oakleaf-enterprise.org/event/mental-health-support-group-in-person-the-pepperpot-godalming/2024-09-19/
LOCATION:The Pepperpot Godalming\, High Street\, Godalming\, Surrey\, GU7 1AJ\, United Kingdom
CATEGORIES:Client Calendar
ORGANIZER;CN="Ana Carretero":MAILTO:anacarretero@oakleaf-enterprise.org
END:VEVENT
BEGIN:VEVENT
DTSTART;VALUE=DATE:20240912
DTEND;VALUE=DATE:20240913
DTSTAMP:20260424T183329
CREATED:20240820T151938Z
LAST-MODIFIED:20240820T151938Z
UID:12378-1726099200-1726185599@www.oakleaf-enterprise.org
SUMMARY:Mental Health Support Group (In Person) @ The Pepperpot\, Godalming
DESCRIPTION:14:30pm-15:30pm \nThe Mental Health Support Group will run for six weeks offering participants a safe and secure environment to discuss and share their stories and ideas to improve mental health. \nThe group will be facilitated by Linda\, a qualified counsellor with a BSc degree in Social Sciences. She has been working with the Oakleaf Counselling team since 2020. She has also facilitated various other face to face and online groups.
URL:https://www.oakleaf-enterprise.org/event/mental-health-support-group-in-person-the-pepperpot-godalming/2024-09-12/
LOCATION:The Pepperpot Godalming\, High Street\, Godalming\, Surrey\, GU7 1AJ\, United Kingdom
CATEGORIES:Client Calendar
ORGANIZER;CN="Ana Carretero":MAILTO:anacarretero@oakleaf-enterprise.org
END:VEVENT
BEGIN:VEVENT
DTSTART;VALUE=DATE:20240905
DTEND;VALUE=DATE:20240906
DTSTAMP:20260424T183329
CREATED:20240820T151938Z
LAST-MODIFIED:20240820T151938Z
UID:12377-1725494400-1725580799@www.oakleaf-enterprise.org
SUMMARY:Mental Health Support Group (In Person) @ The Pepperpot\, Godalming
DESCRIPTION:14:30pm-15:30pm \nThe Mental Health Support Group will run for six weeks offering participants a safe and secure environment to discuss and share their stories and ideas to improve mental health. \nThe group will be facilitated by Linda\, a qualified counsellor with a BSc degree in Social Sciences. She has been working with the Oakleaf Counselling team since 2020. She has also facilitated various other face to face and online groups.
URL:https://www.oakleaf-enterprise.org/event/mental-health-support-group-in-person-the-pepperpot-godalming/2024-09-05/
LOCATION:The Pepperpot Godalming\, High Street\, Godalming\, Surrey\, GU7 1AJ\, United Kingdom
CATEGORIES:Client Calendar
ORGANIZER;CN="Ana Carretero":MAILTO:anacarretero@oakleaf-enterprise.org
END:VEVENT
BEGIN:VEVENT
DTSTART;VALUE=DATE:20240829
DTEND;VALUE=DATE:20240830
DTSTAMP:20260424T183329
CREATED:20240820T151938Z
LAST-MODIFIED:20240820T151938Z
UID:12376-1724889600-1724975999@www.oakleaf-enterprise.org
SUMMARY:Mental Health Support Group (In Person) @ The Pepperpot\, Godalming
DESCRIPTION:14:30pm-15:30pm \nThe Mental Health Support Group will run for six weeks offering participants a safe and secure environment to discuss and share their stories and ideas to improve mental health. \nThe group will be facilitated by Linda\, a qualified counsellor with a BSc degree in Social Sciences. She has been working with the Oakleaf Counselling team since 2020. She has also facilitated various other face to face and online groups.
URL:https://www.oakleaf-enterprise.org/event/mental-health-support-group-in-person-the-pepperpot-godalming/2024-08-29/
LOCATION:The Pepperpot Godalming\, High Street\, Godalming\, Surrey\, GU7 1AJ\, United Kingdom
CATEGORIES:Client Calendar
ORGANIZER;CN="Ana Carretero":MAILTO:anacarretero@oakleaf-enterprise.org
END:VEVENT
BEGIN:VEVENT
DTSTART;VALUE=DATE:20240822
DTEND;VALUE=DATE:20240823
DTSTAMP:20260424T183329
CREATED:20240820T151938Z
LAST-MODIFIED:20240820T151938Z
UID:12373-1724284800-1724371199@www.oakleaf-enterprise.org
SUMMARY:Mental Health Support Group (In Person) @ The Pepperpot\, Godalming
DESCRIPTION:14:30pm-15:30pm \nThe Mental Health Support Group will run for six weeks offering participants a safe and secure environment to discuss and share their stories and ideas to improve mental health. \nThe group will be facilitated by Linda\, a qualified counsellor with a BSc degree in Social Sciences. She has been working with the Oakleaf Counselling team since 2020. She has also facilitated various other face to face and online groups.
URL:https://www.oakleaf-enterprise.org/event/mental-health-support-group-in-person-the-pepperpot-godalming/2024-08-22/
LOCATION:The Pepperpot Godalming\, High Street\, Godalming\, Surrey\, GU7 1AJ\, United Kingdom
CATEGORIES:Client Calendar
ORGANIZER;CN="Ana Carretero":MAILTO:anacarretero@oakleaf-enterprise.org
END:VEVENT
END:VCALENDAR